BEGIN:VCALENDAR
METHOD:PUBLISH
PRODID:Microsoft Exchange Server 2010
VERSION:2.0
X-WR-CALNAME:Calendar
BEGIN:VTIMEZONE
TZID:GTB Standard Time
BEGIN:STANDARD
DTSTART:16010101T040000
TZOFFSETFROM:+0300
TZOFFSETTO:+0200
RRULE:FREQ=YEARLY;INTERVAL=1;BYDAY=-1SU;BYMONTH=10
END:STANDARD
BEGIN:DAYLIGHT
DTSTART:16010101T030000
TZOFFSETFROM:+0200
TZOFFSETTO:+0300
RRULE:FREQ=YEARLY;INTERVAL=1;BYDAY=-1SU;BYMONTH=3
END:DAYLIGHT
END:VTIMEZONE
BEGIN:VEVENT
DESCRIPTION:\n
UID:040000008200E00074C5B7101A82E008000000008CC574556CDFDB01000000000000000
 0100000002A861AEBD0127D42A71D4ABD5B09C911
SUMMARY:Εγγραφές Α' τάξης και Συμπληρωματικέ
 ς Εγγραφές
DTSTART;TZID=GTB Standard Time:20250620T080000
DTEND;TZID=GTB Standard Time:20250620T133000
CLASS:PUBLIC
PRIORITY:5
DTSTAMP:20260424T191256Z
TRANSP:OPAQUE
STATUS:CONFIRMED
SEQUENCE:0
LOCATION:
X-MICROSOFT-CDO-APPT-SEQUENCE:0
X-MICROSOFT-CDO-BUSYSTATUS:BUSY
X-MICROSOFT-CDO-INTENDEDSTATUS:BUSY
X-MICROSOFT-CDO-ALLDAYEVENT:FALSE
X-MICROSOFT-CDO-IMPORTANCE:1
X-MICROSOFT-CDO-INSTTYPE:0
X-MICROSOFT-DONOTFORWARDMEETING:FALSE
X-MICROSOFT-DISALLOW-COUNTER:FALSE
X-MICROSOFT-REQUESTEDATTENDANCEMODE:DEFAULT
X-MICROSOFT-ISRESPONSEREQUESTED:FALSE
END:VEVENT
BEGIN:VEVENT
DESCRIPTION:\n
UID:040000008200E00074C5B7101A82E00800000000A4ACA4D057DFDB01000000000000000
 0100000007F8F1C84CEC21147B4A5664BFD9BE078
SUMMARY:Ανεξετάσεις
DTSTART;VALUE=DATE:20250624
DTEND;VALUE=DATE:20250625
CLASS:PUBLIC
PRIORITY:5
DTSTAMP:20260424T191256Z
TRANSP:TRANSPARENT
STATUS:CONFIRMED
SEQUENCE:0
LOCATION:
X-MICROSOFT-CDO-APPT-SEQUENCE:0
X-MICROSOFT-CDO-BUSYSTATUS:FREE
X-MICROSOFT-CDO-INTENDEDSTATUS:BUSY
X-MICROSOFT-CDO-ALLDAYEVENT:TRUE
X-MICROSOFT-CDO-IMPORTANCE:1
X-MICROSOFT-CDO-INSTTYPE:0
X-MICROSOFT-DONOTFORWARDMEETING:FALSE
X-MICROSOFT-DISALLOW-COUNTER:FALSE
X-MICROSOFT-REQUESTEDATTENDANCEMODE:DEFAULT
X-MICROSOFT-ISRESPONSEREQUESTED:FALSE
END:VEVENT
BEGIN:VEVENT
DESCRIPTION:\n
UID:040000008200E00074C5B7101A82E0080000000066E1CC7A5ADFDB01000000000000000
 010000000E21E9AFC6C3DE4468626E818FC65D29C
SUMMARY:Ανεξετάσεις
DTSTART;VALUE=DATE:20250625
DTEND;VALUE=DATE:20250626
CLASS:PUBLIC
PRIORITY:5
DTSTAMP:20260424T191256Z
TRANSP:TRANSPARENT
STATUS:CONFIRMED
SEQUENCE:0
LOCATION:
X-MICROSOFT-CDO-APPT-SEQUENCE:0
X-MICROSOFT-CDO-BUSYSTATUS:FREE
X-MICROSOFT-CDO-INTENDEDSTATUS:BUSY
X-MICROSOFT-CDO-ALLDAYEVENT:TRUE
X-MICROSOFT-CDO-IMPORTANCE:1
X-MICROSOFT-CDO-INSTTYPE:0
X-MICROSOFT-DONOTFORWARDMEETING:FALSE
X-MICROSOFT-DISALLOW-COUNTER:FALSE
X-MICROSOFT-REQUESTEDATTENDANCEMODE:DEFAULT
X-MICROSOFT-ISRESPONSEREQUESTED:FALSE
END:VEVENT
BEGIN:VEVENT
DESCRIPTION:\n
UID:040000008200E00074C5B7101A82E00800000000AAF57A8B5ADFDB01000000000000000
 010000000DF09341127CFE448A63989B385854331
SUMMARY:Ανεξετάσεις
DTSTART;VALUE=DATE:20250626
DTEND;VALUE=DATE:20250627
CLASS:PUBLIC
PRIORITY:5
DTSTAMP:20260424T191256Z
TRANSP:TRANSPARENT
STATUS:CONFIRMED
SEQUENCE:0
LOCATION:
X-MICROSOFT-CDO-APPT-SEQUENCE:0
X-MICROSOFT-CDO-BUSYSTATUS:FREE
X-MICROSOFT-CDO-INTENDEDSTATUS:BUSY
X-MICROSOFT-CDO-ALLDAYEVENT:TRUE
X-MICROSOFT-CDO-IMPORTANCE:1
X-MICROSOFT-CDO-INSTTYPE:0
X-MICROSOFT-DONOTFORWARDMEETING:FALSE
X-MICROSOFT-DISALLOW-COUNTER:FALSE
X-MICROSOFT-REQUESTEDATTENDANCEMODE:DEFAULT
X-MICROSOFT-ISRESPONSEREQUESTED:FALSE
END:VEVENT
BEGIN:VEVENT
DESCRIPTION:\n
UID:040000008200E00074C5B7101A82E008000000004A46BA806DDFDB01000000000000000
 01000000030B0B8F953732240A1276455DA2CC426
SUMMARY:Εγγραφές Ανεξεταστέων από τις 07:45  μέ
 χρι τις 11:00
DTSTART;VALUE=DATE:20250627
DTEND;VALUE=DATE:20250628
CLASS:PUBLIC
PRIORITY:5
DTSTAMP:20260424T191256Z
TRANSP:TRANSPARENT
STATUS:CONFIRMED
SEQUENCE:0
LOCATION:
X-MICROSOFT-CDO-APPT-SEQUENCE:0
X-MICROSOFT-CDO-BUSYSTATUS:FREE
X-MICROSOFT-CDO-INTENDEDSTATUS:BUSY
X-MICROSOFT-CDO-ALLDAYEVENT:TRUE
X-MICROSOFT-CDO-IMPORTANCE:1
X-MICROSOFT-CDO-INSTTYPE:0
X-MICROSOFT-DONOTFORWARDMEETING:FALSE
X-MICROSOFT-DISALLOW-COUNTER:FALSE
X-MICROSOFT-REQUESTEDATTENDANCEMODE:DEFAULT
X-MICROSOFT-ISRESPONSEREQUESTED:FALSE
END:VEVENT
BEGIN:VEVENT
DESCRIPTION:\n
UID:040000008200E00074C5B7101A82E0080000000053DF9B8156DFDB01000000000000000
 010000000AFD42FA8A576854F99C273FCE93ABC15
SUMMARY:Τελετή Αποφοίτησης 8:00 μ.μ.
DTSTART;VALUE=DATE:20250627
DTEND;VALUE=DATE:20250628
CLASS:PUBLIC
PRIORITY:5
DTSTAMP:20260424T191256Z
TRANSP:TRANSPARENT
STATUS:CONFIRMED
SEQUENCE:0
LOCATION:
X-MICROSOFT-CDO-APPT-SEQUENCE:0
X-MICROSOFT-CDO-BUSYSTATUS:FREE
X-MICROSOFT-CDO-INTENDEDSTATUS:BUSY
X-MICROSOFT-CDO-ALLDAYEVENT:TRUE
X-MICROSOFT-CDO-IMPORTANCE:1
X-MICROSOFT-CDO-INSTTYPE:0
X-MICROSOFT-DONOTFORWARDMEETING:FALSE
X-MICROSOFT-DISALLOW-COUNTER:FALSE
X-MICROSOFT-REQUESTEDATTENDANCEMODE:DEFAULT
X-MICROSOFT-ISRESPONSEREQUESTED:FALSE
END:VEVENT

END:VCALENDAR